BEGIN:VCALENDAR
VERSION:2.0
PRODID:-//Casa de Cultură a Municipiului Timișoara - ECPv6.15.17.1//NONSGML v1.0//EN
CALSCALE:GREGORIAN
METHOD:PUBLISH
X-WR-CALNAME:Casa de Cultură a Municipiului Timișoara
X-ORIGINAL-URL:https://www.casadeculturatm.ro
X-WR-CALDESC:Events for Casa de Cultură a Municipiului Timișoara
REFRESH-INTERVAL;VALUE=DURATION:PT1H
X-Robots-Tag:noindex
X-PUBLISHED-TTL:PT1H
BEGIN:VTIMEZONE
TZID:Europe/Bucharest
BEGIN:DAYLIGHT
TZOFFSETFROM:+0200
TZOFFSETTO:+0300
TZNAME:EEST
DTSTART:20250330T010000
END:DAYLIGHT
BEGIN:STANDARD
TZOFFSETFROM:+0300
TZOFFSETTO:+0200
TZNAME:EET
DTSTART:20251026T010000
END:STANDARD
BEGIN:DAYLIGHT
TZOFFSETFROM:+0200
TZOFFSETTO:+0300
TZNAME:EEST
DTSTART:20260329T010000
END:DAYLIGHT
BEGIN:STANDARD
TZOFFSETFROM:+0300
TZOFFSETTO:+0200
TZNAME:EET
DTSTART:20261025T010000
END:STANDARD
BEGIN:DAYLIGHT
TZOFFSETFROM:+0200
TZOFFSETTO:+0300
TZNAME:EEST
DTSTART:20270328T010000
END:DAYLIGHT
BEGIN:STANDARD
TZOFFSETFROM:+0300
TZOFFSETTO:+0200
TZNAME:EET
DTSTART:20271031T010000
END:STANDARD
END:VTIMEZONE
BEGIN:VEVENT
DTSTART;VALUE=DATE:20260407
DTEND;VALUE=DATE:20260501
DTSTAMP:20260420T030537
CREATED:20260403T110225Z
LAST-MODIFIED:20260403T110225Z
UID:7329-1775520000-1777593599@www.casadeculturatm.ro
SUMMARY:Glasul lemnului. Expoziție de sculptură în lemn Ciprian Surulescu
DESCRIPTION:În aprilie\, Galeria Rotonda găzduiește expoziția de sculptură în lemn intitulată „The Voice of the Wood”\, un eveniment dedicat explorării formelor figurative și dialogului autentic cu natura. Semnată de artistul Ciprian Surulescu\, expoziția va fi deschisă publicului între 7 și 30 aprilie 2026\, oferind o incursiune rară în universul sculpturii contemporane. Vernisajul este programat pentru miercuri\, 8 aprilie\, la ora 17:00\, unde prezentarea va fi susținută de Ovidiu Justinianu\, iar atmosfera va fi îmbogățită de un recital la pian susținut de Andreea Olariu. Expoziția poate fi vizitată de luni până vineri\, în intervalul orar 9:00-17:00\, reprezentând o invitație deschisă către toți cei care doresc să asculte „vocea” lemnului transformat prin artă. \nArtistul Ciprian Surulescu\, timișorean de origine și absolvent al Școlii Populare de Arte Plastice\, și-a început parcursul în sculptura în lemn în anul 2017\, alegând o abordare tehnică inedită: utilizarea drujbei pentru a modela genul figurativ. Membru al Asociației Artiștilor Plastici „Romul Ladea”\, acesta și-a rafinat stilul participând constant la evenimente de prestigiu\, precum Festivalul Național de sculptură cu drujba de la Cerna\, județul Vâlcea\, sau diverse târguri și expoziții la Galeria Bastion din Timișoara. De la debutul său din 2019\, găzduit chiar de instituția unde lucrează\, Spitalul Județean de Urgență\, Ciprian a reușit să aducă arta mai aproape de oameni\, lucrarea sa reprezentativă\, „Mamă și pruncul”\, fiind expusă astăzi în cadrul noii Maternități Bega.
URL:https://www.casadeculturatm.ro/eveniment/glasul-lemnului-expozitie-de-sculptura-in-lemn-ciprian-surulescu/
LOCATION:Galeria Rotonda\, Casa de Cultură a Municipiului Timișoara\, strada Miron Costin\, nr. 2\, Timișoara\, Timiș\, România
ATTACH;FMTTYPE=image/webp:https://www.casadeculturatm.ro/wp-content/uploads/2026/04/Glasul-lemnului_calendar.webp
ORGANIZER;CN="Casa de Cultur%C4%83 a Municipiului Timi%C8%99oara":MAILTO:office@ccmt.ro
END:VEVENT
END:VCALENDAR